BEGIN:VCALENDAR
VERSION:2.0
PRODID:-//jEvents 2.0 for Joomla//EN
CALSCALE:GREGORIAN
METHOD:PUBLISH
BEGIN:VEVENT
UID:203d8ece84345b8aaade8783c9e682b9
CATEGORIES:Handball extern
CREATED:20190912T123703
SUMMARY:Handball Frauen: TSV Asperg - TVA
LOCATION:Rundsporthalle\, Asperg
DESCRIPTION:
DTSTAMP:20260422T143955
DTSTART:20191130T170000
DTEND:20191130T181500
SEQUENCE:0
TRANSP:OPAQUE
END:VEVENT
END:VCALENDAR