BEGIN:VCALENDAR
VERSION:2.0
PRODID:-//jEvents 2.0 for Joomla//EN
CALSCALE:GREGORIAN
METHOD:PUBLISH
BEGIN:VEVENT
UID:3176e87884304419a27bab6abd7ebaaf
CATEGORIES:Fußball Aktive extern
CREATED:20240227T142355
SUMMARY:Fußball Frauen: TVA-TSV Heimsheim 
DESCRIPTION:
DTSTAMP:20260421T062332
DTSTART:20240428T103000
DTEND:20240428T120000
SEQUENCE:0
TRANSP:OPAQUE
END:VEVENT
END:VCALENDAR