BEGIN:VCALENDAR
VERSION:2.0
PRODID:-//jEvents 2.0 for Joomla//EN
CALSCALE:GREGORIAN
METHOD:PUBLISH
BEGIN:VEVENT
UID:09fe1078e0f75b399e559dade3fc34fd
CATEGORIES:Fußball Aktive extern
CREATED:20240327T142823
SUMMARY:Fußball: TVA II - TDSV Kornwestheim II 
DESCRIPTION:
DTSTAMP:20260422T221504
DTSTART:20240526T130000
DTEND:20240526T150000
SEQUENCE:0
TRANSP:OPAQUE
END:VEVENT
END:VCALENDAR