BEGIN:VCALENDAR
VERSION:2.0
PRODID:-//jEvents 2.0 for Joomla//EN
CALSCALE:GREGORIAN
METHOD:PUBLISH
BEGIN:VEVENT
UID:17968b688d45653669d47079a545085f
CATEGORIES:Fußball Aktive extern
CREATED:20240924T172501
SUMMARY:Fußball: TSV Nussdorf - TVA
DESCRIPTION:
DTSTAMP:20260419T125800
DTSTART:20241201T140000
DTEND:20241201T160000
SEQUENCE:0
TRANSP:OPAQUE
END:VEVENT
END:VCALENDAR