BEGIN:VCALENDAR
VERSION:2.0
PRODID:-//jEvents 2.0 for Joomla//EN
CALSCALE:GREGORIAN
METHOD:PUBLISH
BEGIN:VEVENT
UID:28a942df8ed50b90d23c563d88bfcb84
CATEGORIES:Tischtennis extern
CREATED:20210909T225404
SUMMARY:Tischtennis Herren: TVA 2 - RKV-06 Neckarweihingen 2
DESCRIPTION:
DTSTAMP:20260420T042943
DTSTART:20211114T090000
DTEND:20211114T120000
SEQUENCE:0
TRANSP:OPAQUE
END:VEVENT
END:VCALENDAR