BEGIN:VCALENDAR
VERSION:2.0
PRODID:-//jEvents 2.0 for Joomla//EN
CALSCALE:GREGORIAN
METHOD:PUBLISH
BEGIN:VEVENT
UID:7a129bb11d10595d5daf2c64e5c8779b
CATEGORIES:Handball
CREATED:20180110T104138
SUMMARY:Handball Frauen: HSG Neckar FBH - TVA
LOCATION:Ludwigsburg Sporthalle Kugelberg
DESCRIPTION:
DTSTAMP:20260421T000805
DTSTART:20180120T200000
DTEND:20180120T213000
SEQUENCE:0
TRANSP:OPAQUE
END:VEVENT
END:VCALENDAR